BEGIN:VCALENDAR
VERSION:2.0
PRODID:-//COVID ReHash House Harriers - ECPv5.11.0//NONSGML v1.0//EN
CALSCALE:GREGORIAN
METHOD:PUBLISH
X-WR-CALNAME:COVID ReHash House Harriers
X-ORIGINAL-URL:https://covidhhh.com
X-WR-CALDESC:Runs for COVID ReHash House Harriers
BEGIN:VTIMEZONE
TZID:Australia/Melbourne
BEGIN:STANDARD
TZOFFSETFROM:+1100
TZOFFSETTO:+1000
TZNAME:AEST
DTSTART:20210403T160000
END:STANDARD
BEGIN:DAYLIGHT
TZOFFSETFROM:+1000
TZOFFSETTO:+1100
TZNAME:AEDT
DTSTART:20211002T160000
END:DAYLIGHT
END:VTIMEZONE
BEGIN:VEVENT
DTSTART;TZID=Australia/Melbourne:20210308T183000
DTEND;TZID=Australia/Melbourne:20210308T183000
DTSTAMP:20260422T073701
CREATED:20210307T215123Z
LAST-MODIFIED:20210311T230633Z
UID:857-1615228200-1615228200@covidhhh.com
SUMMARY:COVID L
DESCRIPTION:https://covidhhh.com/wp-content/uploads/2021/03/VID_20210308_211611.mp4https://covidhhh.com/wp-content/uploads/2021/03/VID_20210308_204805.mp4
URL:https://covidhhh.com/run/covid-l/
LOCATION:Matilda Road\, Gaven\, 29 Matilda Rd\, Gaven\, QLD\, 4211\, Australia
CATEGORIES:Runs
END:VEVENT
END:VCALENDAR