BEGIN:VCALENDAR
VERSION:2.0
PRODID:-//COVID ReHash House Harriers - ECPv5.11.0//NONSGML v1.0//EN
CALSCALE:GREGORIAN
METHOD:PUBLISH
X-WR-CALNAME:COVID ReHash House Harriers
X-ORIGINAL-URL:https://covidhhh.com
X-WR-CALDESC:Runs for COVID ReHash House Harriers
BEGIN:VTIMEZONE
TZID:Australia/Melbourne
BEGIN:STANDARD
TZOFFSETFROM:+1100
TZOFFSETTO:+1000
TZNAME:AEST
DTSTART:20210403T160000
END:STANDARD
BEGIN:DAYLIGHT
TZOFFSETFROM:+1000
TZOFFSETTO:+1100
TZNAME:AEDT
DTSTART:20211002T160000
END:DAYLIGHT
END:VTIMEZONE
BEGIN:VEVENT
DTSTART;TZID=Australia/Melbourne:20211214T181500
DTEND;TZID=Australia/Melbourne:20211214T181500
DTSTAMP:20260421T184705
CREATED:20211208T063957Z
LAST-MODIFIED:20211208T063957Z
UID:2115-1639505700-1639505700@covidhhh.com
SUMMARY:Covid HHH 2021 Pub Golf Pro-Am Challenge
DESCRIPTION:As we all know Preparation Prevents Piss Poor Performance so use the next 7 days to improve your game in readiness for the 2021 Covid HHH Pub Golf Pro-Am Challenge. A few details to whet your appetite: \nDate: Tuesday\, 14th December \nStart: 6.15pm. Meet out the front of Hideaway Bar\, 2657 Gold Coast Hwy\, Broadbeach. \nFinish: I’m hopeful we will \nPrizes: Individual & Team (Four Ball) \nDress Code: Combined Hash\, Golf & Christmas attire \nCourse: Royal Broadbeach \nPar: 36 (9 Holes / Pubs) \nHazards: Many \nCatering: Nothing arranged for during play (coz eating is cheating). \nCost: Officially none. In reality heaps…..it’s Broadbeach. \nThis is an all-comers Professional (heavy drinkers) and Amateur (light / non-drinkers) event i.e. feel free to swap out the recommend club (alcoholic beverage) to whatever you fancy of a similar size. \nAvoid driving or get an Amateur player to pick you up. If you can’t help yourself there is a free car abandonment area located on either Philip\, Anne or George Streets (handy for the first tee / pub). \nGood Luck.
URL:https://covidhhh.com/run/covid-hhh-2021-pub-golf-pro-am-challenge/
LOCATION:Hideaway Kitchen & Bar\, 2657 Gold Coast Highway\, Broadbeach\, QLD\, 4218\, Australia
CATEGORIES:Activity
END:VEVENT
END:VCALENDAR