BEGIN:VCALENDAR
VERSION:2.0
PRODID:-//COVID ReHash House Harriers - ECPv5.11.0//NONSGML v1.0//EN
CALSCALE:GREGORIAN
METHOD:PUBLISH
X-WR-CALNAME:COVID ReHash House Harriers
X-ORIGINAL-URL:https://covidhhh.com
X-WR-CALDESC:Runs for COVID ReHash House Harriers
BEGIN:VTIMEZONE
TZID:Australia/Melbourne
BEGIN:STANDARD
TZOFFSETFROM:+1100
TZOFFSETTO:+1000
TZNAME:AEST
DTSTART:20220402T160000
END:STANDARD
BEGIN:DAYLIGHT
TZOFFSETFROM:+1000
TZOFFSETTO:+1100
TZNAME:AEDT
DTSTART:20221001T160000
END:DAYLIGHT
END:VTIMEZONE
BEGIN:VEVENT
DTSTART;TZID=Australia/Melbourne:20220322T183000
DTEND;TZID=Australia/Melbourne:20220322T183000
DTSTAMP:20260421T141108
CREATED:20220320T051829Z
LAST-MODIFIED:20220320T051829Z
UID:2327-1647973800-1647973800@covidhhh.com
SUMMARY:Covid Run #103
DESCRIPTION:
URL:https://covidhhh.com/run/covid-run-103/
LOCATION:Tom Rose Park\, 69 Wandin Street\, Nerang\, Queensland\, 4211\, Australia
CATEGORIES:Runs
GEO:-27.9826858;153.3240657
X-APPLE-STRUCTURED-LOCATION;VALUE=URI;X-ADDRESS=Tom Rose Park 69 Wandin Street Nerang Queensland 4211 Australia;X-APPLE-RADIUS=500;X-TITLE=69 Wandin Street:geo:153.3240657,-27.9826858
END:VEVENT
END:VCALENDAR