BEGIN:VCALENDAR
VERSION:2.0
PRODID:-//COVID ReHash House Harriers - ECPv5.11.0//NONSGML v1.0//EN
CALSCALE:GREGORIAN
METHOD:PUBLISH
X-WR-CALNAME:COVID ReHash House Harriers
X-ORIGINAL-URL:https://covidhhh.com
X-WR-CALDESC:Runs for COVID ReHash House Harriers
BEGIN:VTIMEZONE
TZID:Australia/Melbourne
BEGIN:STANDARD
TZOFFSETFROM:+1100
TZOFFSETTO:+1000
TZNAME:AEST
DTSTART:20220402T160000
END:STANDARD
BEGIN:DAYLIGHT
TZOFFSETFROM:+1000
TZOFFSETTO:+1100
TZNAME:AEDT
DTSTART:20221001T160000
END:DAYLIGHT
END:VTIMEZONE
BEGIN:VEVENT
DTSTART;TZID=Australia/Melbourne:20220719T183000
DTEND;TZID=Australia/Melbourne:20220719T183000
DTSTAMP:20260421T081153
CREATED:20220718T071606Z
LAST-MODIFIED:20220720T004602Z
UID:2537-1658255400-1658255400@covidhhh.com
SUMMARY:Covid Run #120
DESCRIPTION:Great run last night. A very technical course. In fact It was so technical not only did the hare (Y2KY Jelly) get lost during the run but so did our favourite front running bastard\, Pepe Le Spew\, at the end of the run. We would have gone out searching for him but we were too busy adhering to local council by-laws (see photo). \n  \nA nice long run (7.71km / 67min) which was enjoyed by all but unfortunately because the run went for over an hour and we missed an obvious piss stop (Southport Surf Club) it was decided not to score the run. Y2KY Jelly got his revenge by covertly attempting to turn us vegetarian (mushrooms hamburgers)
URL:https://covidhhh.com/run/covid-run-120/
LOCATION:Southport Surf Life Saving Club\, MacArthur Parade\, Main beach\, Queensland\, 4217\, Australia
CATEGORIES:Runs
END:VEVENT
END:VCALENDAR