BEGIN:VCALENDAR
VERSION:2.0
PRODID:-//COVID ReHash House Harriers - ECPv5.11.0//NONSGML v1.0//EN
CALSCALE:GREGORIAN
METHOD:PUBLISH
X-WR-CALNAME:COVID ReHash House Harriers
X-ORIGINAL-URL:https://covidhhh.com
X-WR-CALDESC:Runs for COVID ReHash House Harriers
BEGIN:VTIMEZONE
TZID:Australia/Melbourne
BEGIN:STANDARD
TZOFFSETFROM:+1100
TZOFFSETTO:+1000
TZNAME:AEST
DTSTART:20220402T160000
END:STANDARD
BEGIN:DAYLIGHT
TZOFFSETFROM:+1000
TZOFFSETTO:+1100
TZNAME:AEDT
DTSTART:20221001T160000
END:DAYLIGHT
END:VTIMEZONE
BEGIN:VEVENT
DTSTART;TZID=Australia/Melbourne:20220823T181500
DTEND;TZID=Australia/Melbourne:20220823T181500
DTSTAMP:20260421T064102
CREATED:20220817T002852Z
LAST-MODIFIED:20220824T235512Z
UID:2834-1661278500-1661278500@covidhhh.com
SUMMARY:Run #125 Return of the Dragon
DESCRIPTION:https://covidhhh.com/wp-content/uploads/2022/08/591894614051_garmin-health_1661310681825.mp4 \nGreat run last run. A really-well laid trail which was super easy to follow. No complaints from either the runners or walkers. Despite ample parking a low score of 0.5 was awarded. \nBrett was also named during the circle which was nothing short of a debacle with the naming committee once again letting themselves and the hash down. \n  \nNo doubt we will go through it all again at next week’s run /walk starting from Eileen Peters Park\, 5 The Esplanade\, Surfers Paradise. \n\n				\n				Well marked trail\n				\n\n				\n			\n\n				\n				Naming……..Brett\n				\n\n				\n			\n\n				\n				We were going to fast
URL:https://covidhhh.com/run/run-125-return-of-the-dragon/
LOCATION:Tom Rose Park\, 69 Wandin Street\, Nerang\, Queensland\, 4211\, Australia
GEO:-27.9826858;153.3240657
X-APPLE-STRUCTURED-LOCATION;VALUE=URI;X-ADDRESS=Tom Rose Park 69 Wandin Street Nerang Queensland 4211 Australia;X-APPLE-RADIUS=500;X-TITLE=69 Wandin Street:geo:153.3240657,-27.9826858
END:VEVENT
END:VCALENDAR