BEGIN:VCALENDAR
VERSION:2.0
PRODID:-//COVID ReHash House Harriers - ECPv5.11.0//NONSGML v1.0//EN
CALSCALE:GREGORIAN
METHOD:PUBLISH
X-WR-CALNAME:COVID ReHash House Harriers
X-ORIGINAL-URL:https://covidhhh.com
X-WR-CALDESC:Runs for COVID ReHash House Harriers
BEGIN:VTIMEZONE
TZID:Australia/Melbourne
BEGIN:STANDARD
TZOFFSETFROM:+1100
TZOFFSETTO:+1000
TZNAME:AEST
DTSTART:20220402T160000
END:STANDARD
BEGIN:DAYLIGHT
TZOFFSETFROM:+1000
TZOFFSETTO:+1100
TZNAME:AEDT
DTSTART:20221001T160000
END:DAYLIGHT
END:VTIMEZONE
BEGIN:VEVENT
DTSTART;TZID=Australia/Melbourne:20221108T174500
DTEND;TZID=Australia/Melbourne:20221108T174500
DTSTAMP:20260421T021505
CREATED:20221104T002525Z
LAST-MODIFIED:20221109T010552Z
UID:3244-1667929500-1667929500@covidhhh.com
SUMMARY:# 136 Bloody Full Moon Run
DESCRIPTION:What a Bloody Great Night. A technical 4km trail with plenty of on-backs and a bit of rat c#nting. First use of environmentally friendly leaves for trail marking received mixed reviews but overall\, a 10/10 effort from the hare (Kylie) followed by an even better on-after at a late contender for Pub of the Year\, the Chevron Tavern. \n\n				\n			\n\n				\n			\n\n				\n			\n\n				\n			\n\n				\n			\n\n				\n			\n\n				\n			\n\n				\n			\n\n				\n			\n\n				\n			\n\n				\n			\nhttps://covidhhh.com/wp-content/uploads/2022/11/136-Bloody-Good-Run.mp4
URL:https://covidhhh.com/run/136-return-to-the-island/
LOCATION:Korman Family Park\, 183 Stanhill Drive\, Chevron Island\, QLD\, 4217\, Australia
END:VEVENT
END:VCALENDAR