BEGIN:VCALENDAR
VERSION:2.0
PRODID:-//COVID ReHash House Harriers - ECPv5.11.0//NONSGML v1.0//EN
CALSCALE:GREGORIAN
METHOD:PUBLISH
X-WR-CALNAME:COVID ReHash House Harriers
X-ORIGINAL-URL:https://covidhhh.com
X-WR-CALDESC:Runs for COVID ReHash House Harriers
BEGIN:VTIMEZONE
TZID:Australia/Melbourne
BEGIN:STANDARD
TZOFFSETFROM:+1100
TZOFFSETTO:+1000
TZNAME:AEST
DTSTART:20230401T160000
END:STANDARD
BEGIN:DAYLIGHT
TZOFFSETFROM:+1000
TZOFFSETTO:+1100
TZNAME:AEDT
DTSTART:20230930T160000
END:DAYLIGHT
END:VTIMEZONE
BEGIN:VEVENT
DTSTART;TZID=Australia/Melbourne:20230217T183000
DTEND;TZID=Australia/Melbourne:20230217T183000
DTSTAMP:20260420T213531
CREATED:20230214T023148Z
LAST-MODIFIED:20230219T232423Z
UID:3508-1676658600-1676658600@covidhhh.com
SUMMARY:#147 Texas Hold'em Poker Night
DESCRIPTION:https://covidhhh.com/wp-content/uploads/2023/02/Covid-147.mp4
URL:https://covidhhh.com/run/147-texas-holdem-poker-night/
LOCATION:Cleland Crescent\, 14 Cleland Crescent\, \, Broadbeach Waters\, QLD\, 4218\, Australia
CATEGORIES:Activity
END:VEVENT
END:VCALENDAR