BEGIN:VCALENDAR
VERSION:2.0
PRODID:-//COVID ReHash House Harriers - ECPv5.11.0//NONSGML v1.0//EN
CALSCALE:GREGORIAN
METHOD:PUBLISH
X-WR-CALNAME:COVID ReHash House Harriers
X-ORIGINAL-URL:https://covidhhh.com
X-WR-CALDESC:Runs for COVID ReHash House Harriers
BEGIN:VTIMEZONE
TZID:Australia/Melbourne
BEGIN:STANDARD
TZOFFSETFROM:+1100
TZOFFSETTO:+1000
TZNAME:AEST
DTSTART:20230401T160000
END:STANDARD
BEGIN:DAYLIGHT
TZOFFSETFROM:+1000
TZOFFSETTO:+1100
TZNAME:AEDT
DTSTART:20230930T160000
END:DAYLIGHT
END:VTIMEZONE
BEGIN:VEVENT
DTSTART;TZID=Australia/Melbourne:20230228T183000
DTEND;TZID=Australia/Melbourne:20230228T183000
DTSTAMP:20260421T001132
CREATED:20230228T010418Z
LAST-MODIFIED:20230301T002403Z
UID:3545-1677609000-1677609000@covidhhh.com
SUMMARY:Run #149: Double Banger Run
DESCRIPTION:https://covidhhh.com/wp-content/uploads/2023/02/Covid-149.mp4 \nHe promised it and he bloody well delivered it. \nA very late contender for Run of the Year and the Karen Pini by Arsenic. A run that had a bit of everything including a complete disregard for anyone’s safety as evidenced by the amount of claret spilt as we literally crawled our way through the bush. A run that took in every corner of the forest and parts of the bush we have never seen before\, and that Eno hopes we never see again. He broke us and right when all hope was lost\, we popped out onto the fire trail home. \nA marvellous 9.5 was scored despite all the flour being washed away by an isolated shower and freak tornado prior to the run start on what was an otherwise a still and barmy evening. Relive the run here https://www.relive.cc/view/vNOP42M7J2O \nIn the circle the usual banter and airing of grievousness was wrapped up with a moving ceremony to award Derrolicked My Balls with his 100 run t-shirt.
URL:https://covidhhh.com/run/run-149-double-banger-run/
LOCATION:Tom Rose Park (HQ)\, 69 Wandin Street\, Nerang\, QLD\, 4211\, Australia
CATEGORIES:Runs
END:VEVENT
END:VCALENDAR