BEGIN:VCALENDAR
VERSION:2.0
PRODID:-//COVID ReHash House Harriers - ECPv5.11.0//NONSGML v1.0//EN
CALSCALE:GREGORIAN
METHOD:PUBLISH
X-WR-CALNAME:COVID ReHash House Harriers
X-ORIGINAL-URL:https://covidhhh.com
X-WR-CALDESC:Runs for COVID ReHash House Harriers
BEGIN:VTIMEZONE
TZID:Australia/Melbourne
BEGIN:STANDARD
TZOFFSETFROM:+1100
TZOFFSETTO:+1000
TZNAME:AEST
DTSTART:20230401T160000
END:STANDARD
BEGIN:DAYLIGHT
TZOFFSETFROM:+1000
TZOFFSETTO:+1100
TZNAME:AEDT
DTSTART:20230930T160000
END:DAYLIGHT
END:VTIMEZONE
BEGIN:VEVENT
DTSTART;TZID=Australia/Melbourne:20230412T183000
DTEND;TZID=Australia/Melbourne:20230412T183000
DTSTAMP:20260420T200727
CREATED:20230412T051829Z
LAST-MODIFIED:20230416T230423Z
UID:3677-1681324200-1681324200@covidhhh.com
SUMMARY:Run #156
DESCRIPTION:
URL:https://covidhhh.com/run/run-156/
LOCATION:Admiralty Drive\, 5 Admiralty Drive\, Paradise Waters\, QLD\, 4217\, Australia
CATEGORIES:Mixed Hash,Runs
END:VEVENT
END:VCALENDAR