BEGIN:VCALENDAR
VERSION:2.0
PRODID:-//COVID ReHash House Harriers - ECPv5.11.0//NONSGML v1.0//EN
CALSCALE:GREGORIAN
METHOD:PUBLISH
X-WR-CALNAME:COVID ReHash House Harriers
X-ORIGINAL-URL:https://covidhhh.com
X-WR-CALDESC:Runs for COVID ReHash House Harriers
BEGIN:VTIMEZONE
TZID:Australia/Melbourne
BEGIN:STANDARD
TZOFFSETFROM:+1100
TZOFFSETTO:+1000
TZNAME:AEST
DTSTART:20230401T160000
END:STANDARD
BEGIN:DAYLIGHT
TZOFFSETFROM:+1000
TZOFFSETTO:+1100
TZNAME:AEDT
DTSTART:20230930T160000
END:DAYLIGHT
END:VTIMEZONE
BEGIN:VEVENT
DTSTART;TZID=Australia/Melbourne:20230425T140000
DTEND;TZID=Australia/Melbourne:20230425T140000
DTSTAMP:20260420T205305
CREATED:20230419T004802Z
LAST-MODIFIED:20230423T232240Z
UID:3695-1682431200-1682431200@covidhhh.com
SUMMARY:Run #158: Anzac Day
DESCRIPTION:Lest we forget the courage\, mateship\, and sacrifice of those who have gone before us so we pay our respects to those who have fallen starting with Gunfire followed by a 6km Kokoda trail where we will navigate our way through various watering hole hazards\, a two-up circle\, kebab shop and all finishing up with a Gallipoli beach landing re-enactment. \nIt all kicks off 2pm from the Broadbeach Bowling Club\, 169 Surf Parade.
URL:https://covidhhh.com/run/run-158-anzac-day/
LOCATION:Broadbeach Bowls Club\, 169 Surf Parade\, Broadbeach\, QLD\, 4218\, Australia
CATEGORIES:Activity
END:VEVENT
END:VCALENDAR