BEGIN:VCALENDAR
VERSION:2.0
PRODID:-//COVID ReHash House Harriers - ECPv5.11.0//NONSGML v1.0//EN
CALSCALE:GREGORIAN
METHOD:PUBLISH
X-WR-CALNAME:COVID ReHash House Harriers
X-ORIGINAL-URL:https://covidhhh.com
X-WR-CALDESC:Runs for COVID ReHash House Harriers
BEGIN:VTIMEZONE
TZID:Australia/Melbourne
BEGIN:STANDARD
TZOFFSETFROM:+1100
TZOFFSETTO:+1000
TZNAME:AEST
DTSTART:20200404T160000
END:STANDARD
BEGIN:DAYLIGHT
TZOFFSETFROM:+1000
TZOFFSETTO:+1100
TZNAME:AEDT
DTSTART:20201003T160000
END:DAYLIGHT
END:VTIMEZONE
BEGIN:VEVENT
DTSTART;TZID=Australia/Melbourne:20201005T170000
DTEND;TZID=Australia/Melbourne:20201005T200000
DTSTAMP:20260422T135657
CREATED:20201012T001347Z
LAST-MODIFIED:20201012T001643Z
UID:277-1601917200-1601928000@covidhhh.com
SUMMARY:Covid XXVIII - Gourmet 2222
DESCRIPTION:Oxy & Derro\nBP & Jelly\nShowing some Leg
URL:https://covidhhh.com/run/covid-xxviii-gourmet-2222/
LOCATION:QLD
END:VEVENT
BEGIN:VEVENT
DTSTART;TZID=Australia/Melbourne:20201012T181500
DTEND;TZID=Australia/Melbourne:20201012T181500
DTSTAMP:20260422T135657
CREATED:20201005T235707Z
LAST-MODIFIED:20201012T011706Z
UID:272-1602526500-1602526500@covidhhh.com
SUMMARY:Covid XXIX
DESCRIPTION:
URL:https://covidhhh.com/run/covid-xxix/
LOCATION:Tom Rose Park\, 69 Wandin Street\, Nerang\, Queensland\, 4211\, Australia
GEO:-27.9826858;153.3240657
X-APPLE-STRUCTURED-LOCATION;VALUE=URI;X-ADDRESS=Tom Rose Park 69 Wandin Street Nerang Queensland 4211 Australia;X-APPLE-RADIUS=500;X-TITLE=69 Wandin Street:geo:153.3240657,-27.9826858
END:VEVENT
BEGIN:VEVENT
DTSTART;TZID=Australia/Melbourne:20201019T183000
DTEND;TZID=Australia/Melbourne:20201019T183000
DTSTAMP:20260422T135657
CREATED:20201016T230155Z
LAST-MODIFIED:20201020T220557Z
UID:288-1603132200-1603132200@covidhhh.com
SUMMARY:Covid XXX
DESCRIPTION:
URL:https://covidhhh.com/run/covid-xxx/
LOCATION:Samuel Drive Park\, Across from 8 Samuel Drive\, Tallebudgera\, QLD\, 4228\, Australia
CATEGORIES:Runs
GEO:-28.13129;153.418145
X-APPLE-STRUCTURED-LOCATION;VALUE=URI;X-ADDRESS=Samuel Drive Park Across from 8 Samuel Drive Tallebudgera QLD 4228 Australia;X-APPLE-RADIUS=500;X-TITLE=Across from 8 Samuel Drive:geo:153.418145,-28.13129
END:VEVENT
BEGIN:VEVENT
DTSTART;TZID=Australia/Melbourne:20201026T183000
DTEND;TZID=Australia/Melbourne:20201026T183000
DTSTAMP:20260422T135657
CREATED:20201023T032629Z
LAST-MODIFIED:20201112T012050Z
UID:298-1603737000-1603737000@covidhhh.com
SUMMARY:COVID XXXI
DESCRIPTION:https://covidhhh.com/wp-content/uploads/2020/10/Covix-XXXI.mp4
URL:https://covidhhh.com/run/covid-xxxi/
LOCATION:Lawnhill Drive Park\, 29 Lawnhill Dve\, Nerang\, QLD\, 4211\, Australia
GEO:-27.9832151;153.3171641
X-APPLE-STRUCTURED-LOCATION;VALUE=URI;X-ADDRESS=Lawnhill Drive Park 29 Lawnhill Dve Nerang QLD 4211 Australia;X-APPLE-RADIUS=500;X-TITLE=29 Lawnhill Dve:geo:153.3171641,-27.9832151
END:VEVENT
END:VCALENDAR