BEGIN:VCALENDAR
VERSION:2.0
PRODID:-//COVID ReHash House Harriers - ECPv5.11.0//NONSGML v1.0//EN
CALSCALE:GREGORIAN
METHOD:PUBLISH
X-WR-CALNAME:COVID ReHash House Harriers
X-ORIGINAL-URL:https://covidhhh.com
X-WR-CALDESC:Runs for COVID ReHash House Harriers
BEGIN:VTIMEZONE
TZID:Australia/Melbourne
BEGIN:STANDARD
TZOFFSETFROM:+1100
TZOFFSETTO:+1000
TZNAME:AEST
DTSTART:20210403T160000
END:STANDARD
BEGIN:DAYLIGHT
TZOFFSETFROM:+1000
TZOFFSETTO:+1100
TZNAME:AEDT
DTSTART:20211002T160000
END:DAYLIGHT
END:VTIMEZONE
BEGIN:VEVENT
DTSTART;TZID=Australia/Melbourne:20211207T183000
DTEND;TZID=Australia/Melbourne:20211207T183000
DTSTAMP:20260421T171205
CREATED:20211201T210533Z
LAST-MODIFIED:20220206T230930Z
UID:2110-1638901800-1638901800@covidhhh.com
SUMMARY:Covid #88 - Fast Fours Tennis
DESCRIPTION:COVID HASH TENNIS COMP. TUESDAY 7 DECEMBER 7PM MIAMI TENNIS CLUB\n  \nThe Hare arrived at the Club at a time what he thought was early around 6.30pm.  Only to find that most of the pack were present in the clubhouse priming themselves with liquid amber before the evening competition.  Two first time attendees were made very welcome\, Fulla Shit from the Gourmet mob and Carl friend of someone. \nThe Hare spelt out the program before the fast four sets.  That was an on court demonstration of three of the lesser known rules of the game namely. Can you reach over the net to hit the ball?  Who calls a double bounce? Where you can stand whilst serving \, singles and doubles? \nA few simple warn up drills were then performed to get the pack limbered up. \nThen followed a skill game of who could roll a ball closest to the net from the baseline.  The winner was Baar Sinister. \nA knockout game of all nine players on court\, four one side\, five the other.  The ball was fed in from the sideline with players having to rally.  Two chances were given before a player was eliminated.  The last man standing and winner was Bograt. \nThe two doubles matches then commenced and after each set points were awarded for the number of games won by each player.  There were some brilliant rallies and fierce competition. \nThere was a ten minute break before round two and then the competition was fierce again. \nSmokey rolled up a bit late and decided not to play but took to an umpires chair and sounded out advice that I am sure the players felt was helpful or a load of shit. \nAt the conclusion of round two Y2KY distinquished himself by walking off the court after he had lost refusing to shake hands\, calling the opposition a “cheating pack of fucking arseholes”. \nRound Two being completed Smokey had helpfully fetched the pizzas that were washed down with ales.  Complaint received that every pizzas was loaded with cheese however overall they were all devoured. \nA longer break with more beers before Round Three got under way.  Again the matches were hard fought.  There were a few uncertainties as to rules however the games were generally played in good spirits. \nAt the conclusion of Round Three the Hare tallied the scores announcing the winners. \nOverall Champion – Derrolicked my balls following a very consistent performance over the three sets. \nRunner Up – Carl showed that he had played the game before and was no mug. \nKyrgios Award – Y2KY Jelly for serving some brilliant aces.  Followed by his memorable dummy spit and bad and abusive sportsmanship. \nBallbag Award – Baar Sinister a compete turnaround from the previous event finishing last. \nThe competition concluded around 9.30pm.  Not bad seeing as the courts had been booked and paid from 7pm to 9pm. \nA lot more liquid was consumed and the Hare fucked off at 10.15pm. As our crew were the only ones left it was up to us to lock up as the lights were going out at 10.30pm.  This must have been done as no complaints were received by the committee man. \nI thought it was a good night. \nBB.
URL:https://covidhhh.com/run/covid-88-fast-fours-tennis/
LOCATION:GCS Tennis Club\, 24 Pizzey Drive\, Mermaid Waters\, Queensland\, 4218\, Australia
CATEGORIES:Activity
END:VEVENT
BEGIN:VEVENT
DTSTART;TZID=Australia/Melbourne:20211214T181500
DTEND;TZID=Australia/Melbourne:20211214T181500
DTSTAMP:20260421T171205
CREATED:20211208T063957Z
LAST-MODIFIED:20211208T063957Z
UID:2115-1639505700-1639505700@covidhhh.com
SUMMARY:Covid HHH 2021 Pub Golf Pro-Am Challenge
DESCRIPTION:As we all know Preparation Prevents Piss Poor Performance so use the next 7 days to improve your game in readiness for the 2021 Covid HHH Pub Golf Pro-Am Challenge. A few details to whet your appetite: \nDate: Tuesday\, 14th December \nStart: 6.15pm. Meet out the front of Hideaway Bar\, 2657 Gold Coast Hwy\, Broadbeach. \nFinish: I’m hopeful we will \nPrizes: Individual & Team (Four Ball) \nDress Code: Combined Hash\, Golf & Christmas attire \nCourse: Royal Broadbeach \nPar: 36 (9 Holes / Pubs) \nHazards: Many \nCatering: Nothing arranged for during play (coz eating is cheating). \nCost: Officially none. In reality heaps…..it’s Broadbeach. \nThis is an all-comers Professional (heavy drinkers) and Amateur (light / non-drinkers) event i.e. feel free to swap out the recommend club (alcoholic beverage) to whatever you fancy of a similar size. \nAvoid driving or get an Amateur player to pick you up. If you can’t help yourself there is a free car abandonment area located on either Philip\, Anne or George Streets (handy for the first tee / pub). \nGood Luck.
URL:https://covidhhh.com/run/covid-hhh-2021-pub-golf-pro-am-challenge/
LOCATION:Hideaway Kitchen & Bar\, 2657 Gold Coast Highway\, Broadbeach\, QLD\, 4218\, Australia
CATEGORIES:Activity
END:VEVENT
BEGIN:VEVENT
DTSTART;TZID=Australia/Melbourne:20211221T183000
DTEND;TZID=Australia/Melbourne:20211221T183000
DTSTAMP:20260421T171205
CREATED:20211223T025342Z
LAST-MODIFIED:20220112T012601Z
UID:2126-1640111400-1640111400@covidhhh.com
SUMMARY:Covid Run #90
DESCRIPTION:
URL:https://covidhhh.com/run/covid-run-90/
LOCATION:55 Flourz\, 142 Brisbane Road\, Labrador\, QLD\, 4215\, Australia
CATEGORIES:Runs
END:VEVENT
BEGIN:VEVENT
DTSTART;TZID=Australia/Melbourne:20211228T183000
DTEND;TZID=Australia/Melbourne:20211228T183000
DTSTAMP:20260421T171205
CREATED:20220103T025109Z
LAST-MODIFIED:20220112T012641Z
UID:2138-1640716200-1640716200@covidhhh.com
SUMMARY:Covid Run #91: Surf Club Pub Run
DESCRIPTION:
URL:https://covidhhh.com/run/covid-run-91-surf-club-pub-run/
LOCATION:Southport Surf Life Saving Club\, MacArthur Parade\, Main beach\, Queensland\, 4217\, Australia
CATEGORIES:Runs
END:VEVENT
END:VCALENDAR