BEGIN:VCALENDAR
VERSION:2.0
PRODID:-//COVID ReHash House Harriers - ECPv5.11.0//NONSGML v1.0//EN
CALSCALE:GREGORIAN
METHOD:PUBLISH
X-WR-CALNAME:COVID ReHash House Harriers
X-ORIGINAL-URL:https://covidhhh.com
X-WR-CALDESC:Runs for COVID ReHash House Harriers
BEGIN:VTIMEZONE
TZID:Australia/Melbourne
BEGIN:STANDARD
TZOFFSETFROM:+1100
TZOFFSETTO:+1000
TZNAME:AEST
DTSTART:20220402T160000
END:STANDARD
BEGIN:DAYLIGHT
TZOFFSETFROM:+1000
TZOFFSETTO:+1100
TZNAME:AEDT
DTSTART:20221001T160000
END:DAYLIGHT
END:VTIMEZONE
BEGIN:VEVENT
DTSTART;TZID=Australia/Melbourne:20220104T183000
DTEND;TZID=Australia/Melbourne:20220104T183000
DTSTAMP:20260421T154312
CREATED:20220103T025407Z
LAST-MODIFIED:20220112T012728Z
UID:2141-1641321000-1641321000@covidhhh.com
SUMMARY:Covid Run #92: A2B Bush Run
DESCRIPTION:
URL:https://covidhhh.com/run/covid-bush-bash-92/
LOCATION:Pacific Pines Football Club\, Corner of Brockman Way & Pitcairn Way\, Pacific Pines\, Queensland\, 4211\, Australia
CATEGORIES:Runs
END:VEVENT
BEGIN:VEVENT
DTSTART;TZID=Australia/Melbourne:20220111T183000
DTEND;TZID=Australia/Melbourne:20220111T183000
DTSTAMP:20260421T154312
CREATED:20220112T011732Z
LAST-MODIFIED:20220203T000317Z
UID:2152-1641925800-1641925800@covidhhh.com
SUMMARY:Covid Run #93: A2B Bush Run - Burley Griffin
DESCRIPTION:
URL:https://covidhhh.com/run/covid-run-93-a2b-bush-run-burley-griffin/
LOCATION:Burley Griffen Drive\, Maudsland\, 37 Burley Griffin Drive\, Maudsland QLD 4210\, QLD\, 4210\, Australia
CATEGORIES:Runs
END:VEVENT
BEGIN:VEVENT
DTSTART;TZID=Australia/Melbourne:20220118T183000
DTEND;TZID=Australia/Melbourne:20220118T183000
DTSTAMP:20260421T154312
CREATED:20220119T035405Z
LAST-MODIFIED:20220203T000302Z
UID:2177-1642530600-1642530600@covidhhh.com
SUMMARY:Covid Run #94
DESCRIPTION:
URL:https://covidhhh.com/run/covid-run-94/
LOCATION:Tom Rose Park\, 69 Wandin Street\, Nerang\, Queensland\, 4211\, Australia
CATEGORIES:Runs
GEO:-27.9826858;153.3240657
X-APPLE-STRUCTURED-LOCATION;VALUE=URI;X-ADDRESS=Tom Rose Park 69 Wandin Street Nerang Queensland 4211 Australia;X-APPLE-RADIUS=500;X-TITLE=69 Wandin Street:geo:153.3240657,-27.9826858
END:VEVENT
BEGIN:VEVENT
DTSTART;TZID=Australia/Melbourne:20220125T183000
DTEND;TZID=Australia/Melbourne:20220125T183000
DTSTAMP:20260421T154312
CREATED:20220203T000211Z
LAST-MODIFIED:20220203T000211Z
UID:2196-1643135400-1643135400@covidhhh.com
SUMMARY:Covid Run #95
DESCRIPTION:
URL:https://covidhhh.com/run/covid-run-95/
LOCATION:Tom Rose Park\, 69 Wandin Street\, Nerang\, Queensland\, 4211\, Australia
CATEGORIES:Runs
GEO:-27.9826858;153.3240657
X-APPLE-STRUCTURED-LOCATION;VALUE=URI;X-ADDRESS=Tom Rose Park 69 Wandin Street Nerang Queensland 4211 Australia;X-APPLE-RADIUS=500;X-TITLE=69 Wandin Street:geo:153.3240657,-27.9826858
END:VEVENT
END:VCALENDAR