BEGIN:VCALENDAR
VERSION:2.0
PRODID:-//COVID ReHash House Harriers - ECPv5.11.0//NONSGML v1.0//EN
CALSCALE:GREGORIAN
METHOD:PUBLISH
X-WR-CALNAME:COVID ReHash House Harriers
X-ORIGINAL-URL:https://covidhhh.com
X-WR-CALDESC:Runs for COVID ReHash House Harriers
BEGIN:VTIMEZONE
TZID:Australia/Melbourne
BEGIN:STANDARD
TZOFFSETFROM:+1100
TZOFFSETTO:+1000
TZNAME:AEST
DTSTART:20220402T160000
END:STANDARD
BEGIN:DAYLIGHT
TZOFFSETFROM:+1000
TZOFFSETTO:+1100
TZNAME:AEDT
DTSTART:20221001T160000
END:DAYLIGHT
END:VTIMEZONE
BEGIN:VEVENT
DTSTART;TZID=Australia/Melbourne:20220607T183000
DTEND;TZID=Australia/Melbourne:20220607T183000
DTSTAMP:20260421T081320
CREATED:20220601T000320Z
LAST-MODIFIED:20220608T100807Z
UID:2486-1654626600-1654626600@covidhhh.com
SUMMARY:Covid Run #114
DESCRIPTION:Great f*#king run & nosh last night.  Early contender for ROTY and the “Karen Pini”. A virgin trail with plenty of bush bashing including a 30 metre vertical drop and a new Covid Hash record of 17 on-backs. \n  \nOur attempts to burn down the forest were unsuccessful but with plenty of charges from the run (and before the run for one hasher) and some questionable port a good night was had until security (who knew) turned up and the circle was closed. Luckily we had time to pull the hare’s van out of the bog just before the Fire Service turned up ensuring we maintained our mantra of “no man left behind”.
URL:https://covidhhh.com/run/covid-run-114/
LOCATION:Tom Rose Park\, 69 Wandin Street\, Nerang\, Queensland\, 4211\, Australia
CATEGORIES:Runs
GEO:-27.9826858;153.3240657
X-APPLE-STRUCTURED-LOCATION;VALUE=URI;X-ADDRESS=Tom Rose Park 69 Wandin Street Nerang Queensland 4211 Australia;X-APPLE-RADIUS=500;X-TITLE=69 Wandin Street:geo:153.3240657,-27.9826858
END:VEVENT
BEGIN:VEVENT
DTSTART;TZID=Australia/Melbourne:20220614T181500
DTEND;TZID=Australia/Melbourne:20220614T181500
DTSTAMP:20260421T081320
CREATED:20220608T101010Z
LAST-MODIFIED:20220608T101010Z
UID:2508-1655230500-1655230500@covidhhh.com
SUMMARY:Covid Run #115
DESCRIPTION:
URL:https://covidhhh.com/run/covid-run-115/
LOCATION:Heeb Street\, 137 Heeb Street\, Ashmore\, QLD\, 4214\, Australia
CATEGORIES:Runs
END:VEVENT
BEGIN:VEVENT
DTSTART;TZID=Australia/Melbourne:20220620T180000
DTEND;TZID=Australia/Melbourne:20220620T183000
DTSTAMP:20260421T081320
CREATED:20220629T045920Z
LAST-MODIFIED:20220629T050856Z
UID:2521-1655748000-1655749800@covidhhh.com
SUMMARY:Covid Run #116 - Gourmet Run
DESCRIPTION:
URL:https://covidhhh.com/run/covid-run-116-gourmet-run/
LOCATION:Frascott Park\, 44 Frascot Avenue\, Varsity Lakes\, Queensland\, 4227\, Australia
CATEGORIES:Gourmet Hash
END:VEVENT
BEGIN:VEVENT
DTSTART;TZID=Australia/Melbourne:20220627T173000
DTEND;TZID=Australia/Melbourne:20220627T173000
DTSTAMP:20260421T081320
CREATED:20220629T050322Z
LAST-MODIFIED:20220629T050850Z
UID:2524-1656351000-1656351000@covidhhh.com
SUMMARY:Covid Run #117 : Gourmet AGPU
DESCRIPTION:
URL:https://covidhhh.com/run/covid-run-117-gourmet-agpu/
LOCATION:Manihani Indian Restaurant\, Manihani Indian Restaurant\, Broadbeach\, QLD\, 4218\, Australia
CATEGORIES:Gourmet Hash
END:VEVENT
END:VCALENDAR