BEGIN:VCALENDAR
VERSION:2.0
PRODID:-//COVID ReHash House Harriers - ECPv5.11.0//NONSGML v1.0//EN
CALSCALE:GREGORIAN
METHOD:PUBLISH
X-WR-CALNAME:COVID ReHash House Harriers
X-ORIGINAL-URL:https://covidhhh.com
X-WR-CALDESC:Runs for COVID ReHash House Harriers
BEGIN:VTIMEZONE
TZID:Australia/Melbourne
BEGIN:STANDARD
TZOFFSETFROM:+1100
TZOFFSETTO:+1000
TZNAME:AEST
DTSTART:20220402T160000
END:STANDARD
BEGIN:DAYLIGHT
TZOFFSETFROM:+1000
TZOFFSETTO:+1100
TZNAME:AEDT
DTSTART:20221001T160000
END:DAYLIGHT
END:VTIMEZONE
BEGIN:VEVENT
DTSTART;TZID=Australia/Melbourne:20220705T180000
DTEND;TZID=Australia/Melbourne:20220705T180000
DTSTAMP:20260421T064241
CREATED:20220629T050827Z
LAST-MODIFIED:20220706T090417Z
UID:2527-1657044000-1657044000@covidhhh.com
SUMMARY:Covid Run #118: Steak Run
DESCRIPTION:
URL:https://covidhhh.com/run/covid-run-118-steak-run/
LOCATION:Mermaid Park\, 2511 Gold Coast Hwy\, Mermaid Beach\, QLD\, 4218\, Australia
CATEGORIES:Activity,Runs
END:VEVENT
BEGIN:VEVENT
DTSTART;TZID=Australia/Melbourne:20220712T183000
DTEND;TZID=Australia/Melbourne:20220712T183000
DTSTAMP:20260421T064241
CREATED:20220713T074821Z
LAST-MODIFIED:20220713T074821Z
UID:2535-1657650600-1657650600@covidhhh.com
SUMMARY:Covid Run #119 - Wet Indian
DESCRIPTION:
URL:https://covidhhh.com/run/covid-run-119-wet-indian/
LOCATION:Tom Rose Park\, 69 Wandin Street\, Nerang\, Queensland\, 4211\, Australia
CATEGORIES:Activity
GEO:-27.9826858;153.3240657
X-APPLE-STRUCTURED-LOCATION;VALUE=URI;X-ADDRESS=Tom Rose Park 69 Wandin Street Nerang Queensland 4211 Australia;X-APPLE-RADIUS=500;X-TITLE=69 Wandin Street:geo:153.3240657,-27.9826858
END:VEVENT
BEGIN:VEVENT
DTSTART;TZID=Australia/Melbourne:20220719T183000
DTEND;TZID=Australia/Melbourne:20220719T183000
DTSTAMP:20260421T064241
CREATED:20220718T071606Z
LAST-MODIFIED:20220720T004602Z
UID:2537-1658255400-1658255400@covidhhh.com
SUMMARY:Covid Run #120
DESCRIPTION:Great run last night. A very technical course. In fact It was so technical not only did the hare (Y2KY Jelly) get lost during the run but so did our favourite front running bastard\, Pepe Le Spew\, at the end of the run. We would have gone out searching for him but we were too busy adhering to local council by-laws (see photo). \n  \nA nice long run (7.71km / 67min) which was enjoyed by all but unfortunately because the run went for over an hour and we missed an obvious piss stop (Southport Surf Club) it was decided not to score the run. Y2KY Jelly got his revenge by covertly attempting to turn us vegetarian (mushrooms hamburgers)
URL:https://covidhhh.com/run/covid-run-120/
LOCATION:Southport Surf Life Saving Club\, MacArthur Parade\, Main beach\, Queensland\, 4217\, Australia
CATEGORIES:Runs
END:VEVENT
BEGIN:VEVENT
DTSTART;TZID=Australia/Melbourne:20220726T183000
DTEND;TZID=Australia/Melbourne:20220726T183000
DTSTAMP:20260421T064241
CREATED:20220720T002950Z
LAST-MODIFIED:20220729T015710Z
UID:2543-1658860200-1658860200@covidhhh.com
SUMMARY:Covid Run #121
DESCRIPTION:https://covidhhh.com/wp-content/uploads/2022/07/47987161101_relive_1658967586035.mp4\nGreat run last night. Good to see the progress Miscarriage has made on the new Covid Rehash clubhouse. Impressive entry for “Fire of the Year””\, shame about the boring view.  \n \n   \nhttps://covidhhh.com/wp-content/uploads/2022/07/IMG_2585.mov
URL:https://covidhhh.com/run/covid-run-121/
LOCATION:The Tallows\, 139 Evanita Drive\, Gilston\, QLD\, 4211\, Australia
CATEGORIES:Runs
END:VEVENT
END:VCALENDAR