BEGIN:VCALENDAR
VERSION:2.0
PRODID:-//COVID ReHash House Harriers - ECPv5.11.0//NONSGML v1.0//EN
CALSCALE:GREGORIAN
METHOD:PUBLISH
X-WR-CALNAME:COVID ReHash House Harriers
X-ORIGINAL-URL:https://covidhhh.com
X-WR-CALDESC:Runs for COVID ReHash House Harriers
BEGIN:VTIMEZONE
TZID:Australia/Melbourne
BEGIN:STANDARD
TZOFFSETFROM:+1100
TZOFFSETTO:+1000
TZNAME:AEST
DTSTART:20220402T160000
END:STANDARD
BEGIN:DAYLIGHT
TZOFFSETFROM:+1000
TZOFFSETTO:+1100
TZNAME:AEDT
DTSTART:20221001T160000
END:DAYLIGHT
END:VTIMEZONE
BEGIN:VEVENT
DTSTART;TZID=Australia/Melbourne:20221108T174500
DTEND;TZID=Australia/Melbourne:20221108T174500
DTSTAMP:20260421T004717
CREATED:20221104T002525Z
LAST-MODIFIED:20221109T010552Z
UID:3244-1667929500-1667929500@covidhhh.com
SUMMARY:# 136 Bloody Full Moon Run
DESCRIPTION:What a Bloody Great Night. A technical 4km trail with plenty of on-backs and a bit of rat c#nting. First use of environmentally friendly leaves for trail marking received mixed reviews but overall\, a 10/10 effort from the hare (Kylie) followed by an even better on-after at a late contender for Pub of the Year\, the Chevron Tavern. \n\n				\n			\n\n				\n			\n\n				\n			\n\n				\n			\n\n				\n			\n\n				\n			\n\n				\n			\n\n				\n			\n\n				\n			\n\n				\n			\n\n				\n			\nhttps://covidhhh.com/wp-content/uploads/2022/11/136-Bloody-Good-Run.mp4
URL:https://covidhhh.com/run/136-return-to-the-island/
LOCATION:Korman Family Park\, 183 Stanhill Drive\, Chevron Island\, QLD\, 4217\, Australia
END:VEVENT
BEGIN:VEVENT
DTSTART;TZID=Australia/Melbourne:20221116T181500
DTEND;TZID=Australia/Melbourne:20221116T181500
DTSTAMP:20260421T004717
CREATED:20221108T233111Z
LAST-MODIFIED:20221117T001142Z
UID:3287-1668622500-1668622500@covidhhh.com
SUMMARY:# 137 Steve Irwin Run
DESCRIPTION:Crikey\, what a night. Steve would have been so proud. The hare (Y2KY Jelly) set what we thought was an excellent run only to discover in the circle (I know\, who would have thought) 15 other runners who we never saw on our trail but were claiming they also followed “trail” all over The Spit. After many charges and down downs\, we realised what had gone wrong. Turns out the hare’s clear instructions of follow the chalk\, toilet paper and chad missed on important point. No one f$ckin knows what chad is!!! ‘ \n  \nAnyway\, Jelly he did a marvellous job with getting loads of people lost on The Spit!!!\, great circle and bush tucker (yep\, vegetarian delight). 7 out of 10 was awarded followed by a moving rendition of “Shitty Run”. \n\n				\n			\n\n				\n			\n\n				\n			\n\n				\n			\nhttps://covidhhh.com/wp-content/uploads/2022/11/137-Steve-Irwin-Run.mp4
URL:https://covidhhh.com/run/137-steve-irwin-run/
LOCATION:BBQ’s behind Main Beach Pavilion\, Main Beach Pavilion\, MacArthur Parade\, Main Beach QLD 4217\, Gold Coast\, QLD\, 4217\, Australia
END:VEVENT
BEGIN:VEVENT
DTSTART;TZID=Australia/Melbourne:20221123T181500
DTEND;TZID=Australia/Melbourne:20221123T181500
DTSTAMP:20260421T004717
CREATED:20221117T000019Z
LAST-MODIFIED:20221122T053010Z
UID:3326-1669227300-1669227300@covidhhh.com
SUMMARY:# 138 Good Head Run
DESCRIPTION:
URL:https://covidhhh.com/run/138-battle-of-the-bush-lxxxix/
LOCATION:House of Good Head\, 1 Burwood Court\, Labrador\, Queensland\, 4215\, Australia
END:VEVENT
BEGIN:VEVENT
DTSTART;TZID=Australia/Melbourne:20221129T181500
DTEND;TZID=Australia/Melbourne:20221129T181500
DTSTAMP:20260421T004717
CREATED:20221127T022346Z
LAST-MODIFIED:20221130T010606Z
UID:3389-1669745700-1669745700@covidhhh.com
SUMMARY:# 139 Ballbreaker Run
DESCRIPTION:You know it’s going to be a good run when you turn up and everyone’s downing birthday beers. Cheer’s Ballbag. \n  \nThe run started with an obligatory sojourn through a stormwater drain which turned out to be an on-back. We then bush bashed our way up to the fire trail to the first check leading to the notorious Three Hills track. Upon arriving at the summit (151 vertical metres) we were then faced with a death-defying descent down track 13 which as it turned out was good luck as we came across Ballbag at the bottom. How the f&ck he ended up on the runners trail we’ll never know….. At the next check we came across another very confused walker (Eno) who despite being only 10 metres from the fire trail was looking very lost…..It all ended very well with what I believe was the first (in 138 attempts) runners/walkers combined piss stop. A historic run/walk celebrated with meat free sausages and Tim Tams. \n\n				\n			\n\n				\n			\n\n				\n			\n\n				\n			\n\n				\n			\n\n				\n			\n\n				\n			\n\n				\n			\n\n				\n			\n\n				\n			\nhttps://covidhhh.com/wp-content/uploads/2022/11/138-Ballbreaker.mp4
URL:https://covidhhh.com/run/139-ballbreaker-run/
LOCATION:Rotoract Park\, Nerang\, 2 Balyando Drive\, Nerang\, Queensland\, 4211\, Australia
END:VEVENT
END:VCALENDAR