BEGIN:VCALENDAR
VERSION:2.0
PRODID:-//COVID ReHash House Harriers - ECPv5.11.0//NONSGML v1.0//EN
CALSCALE:GREGORIAN
METHOD:PUBLISH
X-WR-CALNAME:COVID ReHash House Harriers
X-ORIGINAL-URL:https://covidhhh.com
X-WR-CALDESC:Runs for COVID ReHash House Harriers
BEGIN:VTIMEZONE
TZID:Australia/Melbourne
BEGIN:STANDARD
TZOFFSETFROM:+1100
TZOFFSETTO:+1000
TZNAME:AEST
DTSTART:20220402T160000
END:STANDARD
BEGIN:DAYLIGHT
TZOFFSETFROM:+1000
TZOFFSETTO:+1100
TZNAME:AEDT
DTSTART:20221001T160000
END:DAYLIGHT
END:VTIMEZONE
BEGIN:VEVENT
DTSTART;TZID=Australia/Melbourne:20221205T174500
DTEND;TZID=Australia/Melbourne:20221205T174500
DTSTAMP:20260420T231833
CREATED:20221130T043416Z
LAST-MODIFIED:20221201T024307Z
UID:3419-1670262300-1670262300@covidhhh.com
SUMMARY:#140 Two Sirs Run
DESCRIPTION:
URL:https://covidhhh.com/run/140-sir-prince-run/
LOCATION:Robina Soccer Club\, Robina Common\, Ron Penhaligon Way\, Robina\, Queensland\, Australia
END:VEVENT
BEGIN:VEVENT
DTSTART;TZID=Australia/Melbourne:20221213T174500
DTEND;TZID=Australia/Melbourne:20221213T174500
DTSTAMP:20260420T231833
CREATED:20221206T231927Z
LAST-MODIFIED:20221206T231927Z
UID:3439-1670953500-1670953500@covidhhh.com
SUMMARY:# 141 Big Balls in Holes Run
DESCRIPTION:
URL:https://covidhhh.com/run/141-big-balls-in-holes-run/
LOCATION:KDV Sport\, 221 Nerang Broadbeach Road\, Carrara
END:VEVENT
BEGIN:VEVENT
DTSTART;TZID=Australia/Melbourne:20221220T080000
DTEND;TZID=Australia/Melbourne:20221220T170000
DTSTAMP:20260420T231833
CREATED:20221220T004156Z
LAST-MODIFIED:20221220T004156Z
UID:3449-1671523200-1671555600@covidhhh.com
SUMMARY:#142 Mixed Hash Run
DESCRIPTION:
URL:https://covidhhh.com/run/142-mixed-hash-run/
LOCATION:Lake Lomandra\, Olympus Drive\, Robina\, QLD\, 4226\, Australia
CATEGORIES:Mixed Hash
END:VEVENT
END:VCALENDAR